BEGIN:VCALENDAR
VERSION:2.0
PRODID:-//dadssoapandstuff.com - ECPv6.15.16.1//NONSGML v1.0//EN
CALSCALE:GREGORIAN
METHOD:PUBLISH
X-ORIGINAL-URL:https://dadssoapandstuff.com
X-WR-CALDESC:Events for dadssoapandstuff.com
REFRESH-INTERVAL;VALUE=DURATION:PT1H
X-Robots-Tag:noindex
X-PUBLISHED-TTL:PT1H
BEGIN:VTIMEZONE
TZID:America/Detroit
BEGIN:DAYLIGHT
TZOFFSETFROM:-0500
TZOFFSETTO:-0400
TZNAME:EDT
DTSTART:20220313T070000
END:DAYLIGHT
BEGIN:STANDARD
TZOFFSETFROM:-0400
TZOFFSETTO:-0500
TZNAME:EST
DTSTART:20221106T060000
END:STANDARD
BEGIN:DAYLIGHT
TZOFFSETFROM:-0500
TZOFFSETTO:-0400
TZNAME:EDT
DTSTART:20230312T070000
END:DAYLIGHT
BEGIN:STANDARD
TZOFFSETFROM:-0400
TZOFFSETTO:-0500
TZNAME:EST
DTSTART:20231105T060000
END:STANDARD
BEGIN:DAYLIGHT
TZOFFSETFROM:-0500
TZOFFSETTO:-0400
TZNAME:EDT
DTSTART:20240310T070000
END:DAYLIGHT
BEGIN:STANDARD
TZOFFSETFROM:-0400
TZOFFSETTO:-0500
TZNAME:EST
DTSTART:20241103T060000
END:STANDARD
END:VTIMEZONE
BEGIN:VEVENT
DTSTART;TZID=America/Detroit:20230415T150000
DTEND;TZID=America/Detroit:20230415T190000
DTSTAMP:20260423T094241
CREATED:20230314T173856Z
LAST-MODIFIED:20230314T174830Z
UID:3494-1681570800-1681585200@dadssoapandstuff.com
SUMMARY:CLAYTON HENNINGER BENEFIT
DESCRIPTION:
URL:https://dadssoapandstuff.com/event/clayto-henninger-benefit/
LOCATION:WHEELER TWP HALL\, 8510 N MONROE RD\, WHEELER\, MI\, 48662
END:VEVENT
BEGIN:VEVENT
DTSTART;TZID=America/Detroit:20230318T150000
DTEND;TZID=America/Detroit:20230318T233000
DTSTAMP:20260423T094241
CREATED:20230314T175006Z
LAST-MODIFIED:20230314T175210Z
UID:3500-1679151600-1679182200@dadssoapandstuff.com
SUMMARY:TONYA KEILITZ BENEFIT
DESCRIPTION:
URL:https://dadssoapandstuff.com/event/tonya-keilitz-benefit/
LOCATION:SAINTS CLUB\, 8230 S FORDNEY\, ST CHARLES
END:VEVENT
BEGIN:VEVENT
DTSTART;TZID=America/Detroit:20230304T100000
DTEND;TZID=America/Detroit:20230305T170000
DTSTAMP:20260423T094241
CREATED:20230222T203317Z
LAST-MODIFIED:20230222T203557Z
UID:3148-1677924000-1678035600@dadssoapandstuff.com
SUMMARY:MIDLAND MALL COMIC CON
DESCRIPTION:
URL:https://dadssoapandstuff.com/event/midland-mall-comic-con/
LOCATION:Midland Mall\, Midland\, Mi
END:VEVENT
END:VCALENDAR